Workbook

Sheet 2024
A1: № п/п | B1: Територіальні органи Держрибагентства | C1: Викрито порушень | I1: Кількість порушень користувачів водних біоресурсів | J1: Накладено штрафів, грн | K1: Нараховано збитків, грн | L1: Вилучено водних біоресурсів (кг) | P1: Вилучено знарядь лову, шт. | W1: Затримано транспортних засобів (у тому числі плавучих)
C2: Усього | D2: ст. 85, ч. 3 КУпАП | E2: ст. 85 ч.4 КУпАП | F2: ст. 88' КУпАП | G2: складених актів виявлення та вилучення майна, власник якого не встановлений | H2: Інші | L2: Всього | M2: у фізичних осіб та користувачів водних біоресусрів | N2: за незаконне придбання чи збут | O2: за актами виявлення та вилучення майна, власник якого не встановлений | P2: Усього, шт | Q2: сіток | R2: колючі, отруєні, вибухові | S2: засоби та знаряддя лову із застосуванням електроструму | T2: засоби та знаряддя лову підводних мисливців | U2: раколовки | V2: інші
A3: 1 | B3: Азовське басейнове управління Державного агентства меліорації та рибного господарства | C3: =[1]І_півріччя_2024!C3+[1]липень_2024!C5 -> 0 | D3: =[1]І_півріччя_2024!D3+[1]липень_2024!D5 -> 0 | E3: =[1]І_півріччя_2024!E3+[1]липень_2024!E5 -> 0 | F3: =[1]І_півріччя_2024!F3+[1]липень_2024!F5 -> 0 | G3: =[1]І_півріччя_2024!G3+[1]липень_2024!G5 -> 0 | H3: =[1]І_півріччя_2024!H3+[1]липень_2024!H5 -> 0 | I3: =[1]І_півріччя_2024!I3+[1]липень_2024!I5 -> 0 | J3: =[1]І_півріччя_2024!J3+[1]липень_2024!J5 -> 0 | ... U3: =[1]І_півріччя_2024!U3+[1]липень_2024!U5 -> 0 | V3: 0 | W3: =[1]І_півріччя_2024!V3+[1]липень_2024!W5 -> 0
A4: 2 | B4: Управління Державного агентства меліорації та рибного господарства у Вінницькій області | C4: 1502 | D4: 1197 | E4: 178 | F4: 10 | G4: 99 | H4: 18 | I4: 9 | J4: 119527 | K4: 9152670 | L4: 1352.165 | M4: 812.765 | N4: 421.5 | O4: 117.9 | P4: 430 | Q4: 311 | R4: 84 | S4: 0 | T4: 0 | U4: 35 | V4: 0 | W4: 22
A5: 3 | B5: Управління Державного агентства меліорації та рибного господарства у Волинській області | C5: 595 | D5: 401 | E5: 116 | F5: 13 | G5: 57 | H5: 8 | I5: 2 | J5: 67405 | K5: 1954537.4 | L5: 658.191 | M5: 114.891 | N5: 357.1 | O5: 186.2 | P5: 576 | Q5: 460 | R5: 47 | S5: 0 | T5: 0 | U5: 69 | V5: 0 | W5: 5
A6: 4 | B6: Управління Державного агентства меліорації та рибного господарства у Дніпропетровській області | C6: 2718 | D6: 1787 | E6: 553 | F6: 83 | G6: 280 | H6: 15 | I6: 33 | J6: 276488 | K6: 21373910 | L6: 5082.845 | M6: 3347.5 | N6: 672.933 | O6: 1062.412 | P6: 1220 | Q6: 673 | R6: 271 | S6: 0 | T6: 0 | U6: 276 | V6: 0 | W6: 55
A7: 5 | B7: Управління Державного агентства меліорації та рибного господарства у Донецькій області | C7: 490 | D7: 77 | E7: 264 | F7: 60 | G7: 87 | H7: 2 | I7: 0 | J7: 48688 | K7: 1591438 | L7: 464.9 | M7: 111.8 | N7: 313 | O7: 40.1 | P7: 456 | Q7: 336 | R7: 87 | S7: 0 | T7: 0 | U7: 33 | V7: 0 | W7: 0
A8: 6 | B8: Управління Державного агентства меліорації та рибного господарства у Житомирській області | C8: 496 | D8: 239 | E8: 96 | F8: 20 | G8: 141 | H8: 0 | I8: 0 | J8: 28951 | K8: 2128978 | L8: 370.645 | M8: 238.795 | N8: 0 | O8: 131.85 | P8: 468 | Q8: 464 | R8: 4 | S8: 0 | T8: 0 | U8: 0 | V8: 0 | W8: 12
A9: 7 | B9: Управління Державного агентства меліорації та рибного господарства у Закарпатській області | C9: 665 | D9: 545 | E9: 31 | F9: 2 | G9: 23 | H9: 64 | I9: 0 | J9: 79696 | K9: 146771 | L9: 43.775 | M9: 41.775 | N9: 2 | O9: 0 | P9: 65 | Q9: 65 | R9: 0 | S9: 0 | T9: 0 | U9: 0 | V9: 0 | W9: 2
A10: 8 | B10: Управління Державного агентства меліорації та рибного господарства у Запорізькій області | C10: 949 | D10: 605 | E10: 176 | F10: 71 | G10: 94 | H10: 3 | I10: 0 | J10: 88179 | K10: 8990138 | L10: 5655.995 | M10: 1999.545 | N10: 1462.5 | O10: 2193.95 | P10: 811 | Q10: 330 | R10: 56 | S10: 0 | T10: 2 | U10: 423 | V10: 0 | W10: 20
A11: 9 | B11: Управління Державного агентства меліорації та рибного господарства у Івано-Франківській області | C11: 481 | D11: 238 | E11: 21 | F11: 10 | G11: 174 | H11: 38 | I11: 0 | J11: 56984 | K11: 295113 | L11: 280.264 | M11: 40.579 | N11: 164.775 | O11: 74.91 | P11: 209 | Q11: 181 | R11: 17 | S11: 0 | T11: 0 | U11: 11 | V11: 0 | W11: 2
A12: 10 | B12: Управління Державного агентства меліорації та рибного господарства у Кіровоградській області | C12: 727 | D12: 413 | E12: 210 | F12: 53 | G12: 43 | H12: 8 | I12: 51 | J12: 139434 | K12: 11788007 | L12: 2697 | M12: 1690.1 | N12: 548.4 | O12: 458.5 | P12: 454 | Q12: 299 | R12: 128 | S12: 0 | T12: 0 | U12: 27 | V12: 0 | W12: 30
A13: 11 | B13: Управління Державного агентства меліорації та рибного господарства у Луганській області | C13: 0 | D13: 0 | E13: 0 | F13: 0 | G13: 0 | H13: 0 | I13: 0 | J13: 0 | K13: 0 | L13: 0 | M13: 0 | N13: 0 | O13: 0 | P13: 0 | Q13: 0 | R13: 0 | S13: 0 | T13: 0 | U13: 0 | V13: 0 | W13: 0
A14: 12 | B14: Управління Державного агентства меліорації та рибного господарства у Львівській області | C14: 903 | D14: 689 | E14: 41 | F14: 41 | G14: 84 | H14: 48 | I14: 24 | J14: 107664 | K14: 1109738 | L14: 665.436 | M14: 73.174 | N14: 494.412 | O14: 97.85 | P14: 172 | Q14: 134 | R14: 11 | S14: 0 | T14: 0 | U14: 27 | V14: 0 | W14: 2
A15: 13 | B15: Управління Державного агентства меліорації та рибного господарства у м. Києві та Київській області | C15: 812 | D15: 401 | E15: 216 | F15: 48 | G15: 129 | H15: 18 | I15: 50 | J15: 100130 | K15: 16488985 | L15: 4673.806 | M15: 2464.995 | N15: 1892.211 | O15: 316.6 | P15: 715 | Q15: 543 | R15: 141 | S15: 0 | T15: 0 | U15: 31 | V15: 0 | W15: 67
... A20: 19 | B20: Управління Державного агентства меліорації та рибного господарства у Сумській області | C20: 911 | D20: 621 | E20: 71 | F20: 79 | G20: 135 | H20: 5 | I20: 0 | J20: 101014 | K20: 1525939 | L20: 1177.375 | M20: 116.725 | N20: 943.7 | O20: 116.95 | P20: 318 | Q20: 287 | R20: 0 | S20: 0 | T20: 1 | U20: 30 | V20: 0 | W20: 5
A21: 20 | B21: Управління Державного агентства меліорації та рибного господарства у Тернопільській області | C21: ='[2]січень-листопад_2024'!C23+[2]грудень_2024!C23 -> 400 | D21: ='[2]січень-листопад_2024'!D23+[2]грудень_2024!D23 -> 163 | E21: ='[2]січень-листопад_2024'!E23+[2]грудень_2024!E23 -> 31 | F21: ='[2]січень-листопад_2024'!F23+[2]грудень_2024!F23 -> 29 | G21: ='[2]січень-листопад_2024'!G23+[2]грудень_2024!G23 -> 176 | H21: ='[2]січень-листопад_2024'!H23+[2]грудень_2024!H23 -> 1 | I21: ='[2]січень-листопад_2024'!I23+[2]грудень_2024!I23 -> 0 | J21: ='[2]січень-листопад_2024'!J23+[2]грудень_2024!J23 -> 27967 | ... W21: ='[2]січень-листопад_2024'!W23+[2]грудень_2024!W23 -> 4
A22: 21 | B22: Управління Державного агентства меліорації та рибного господарства у Харківській області | C22: 356 | D22: 92 | E22: 171 | F22: 48 | G22: 26 | H22: 19 | I22: 3 | J22: 53482 | K22: 7394051.2 | L22: 2654.073 | M22: 1215.873 | N22: 1434.85 | O22: 3.35 | P22: 346 | Q22: 296 | R22: 17 | S22: 0 | T22: 0 | U22: 33 | V22: 0 | W22: 22
A23: 22 | B23: Управління Державного агентства меліорації та рибного господарства у Херсонській області | C23: 372 | D23: 0 | E23: 143 | F23: 44 | G23: 185 | H23: 0 | I23: 0 | J23: 102170 | K23: 7256685.5 | L23: 1943.45 | M23: 787.45 | N23: 1156 | O23: 0 | P23: 1026 | Q23: 707 | R23: 3 | S23: 0 | T23: 0 | U23: 316 | V23: 0 | W23: 4
A24: 23 | B24: Управління Державного агентства меліорації та рибного господарства у Хмельницькій області | C24: 677 | D24: 266 | E24: 76 | F24: 98 | G24: 231 | H24: 6 | I24: 2 | J24: 44676 | K24: 2366241 | L24: 3401.49 | M24: 433.76 | N24: 897.9 | O24: 2069.83 | P24: 756 | Q24: 740 | R24: 10 | S24: 0 | T24: 0 | U24: 6 | V24: 0 | W24: 9
A25: 24 | B25: Управління Державного агентства меліорації та рибного господарства у Черкаській області | C25: 3008 | D25: 1995 | E25: 278 | F25: 32 | G25: 702 | H25: 1 | I25: 0 | J25: 198220 | K25: 6460038.5 | L25: 2964.72 | M25: 725.16 | N25: 1406.06 | O25: 833.5 | P25: 1089 | Q25: 956 | R25: 110 | S25: 0 | T25: 0 | U25: 23 | V25: 0 | W25: 11
A26: 25 | B26: Управління Державного агентства меліорації та рибного господарства у Чернівецькій області | C26: 597 | D26: 483 | E26: 35 | F26: 10 | G26: 43 | H26: 26 | I26: 0 | J26: 66334 | K26: 4303810 | L26: 750.83 | M26: 526.89 | N26: 40.63 | O26: 183.31 | P26: 117 | Q26: 114 | R26: 3 | S26: 0 | T26: 0 | U26: 0 | V26: 0 | W26: 14
A27: 26 | B27: Управління Державного агентства меліорації та рибного господарства у Чернігівській області | C27: 835 | D27: 563 | E27: 150 | F27: 19 | G27: 95 | H27: 8 | I27: 1 | J27: 136680 | K27: 5229713 | L27: 1552.495 | M27: 875.995 | N27: 171 | O27: 505.5 | P27: 730 | Q27: 725 | R27: 3 | S27: 2 | T27: 0 | U27: 0 | V27: 0 | W27: 35
A28: 27 | B28: Чорноморське басейнове управління Державного агентства меліорації та рибного господарства | C28: 0 | D28: 0 | E28: 0 | F28: 0 | G28: 0 | H28: 0 | I28: 0 | J28: 0 | K28: 0 | L28: 0 | M28: 0 | N28: 0 | O28: 0 | P28: 0 | Q28: 0 | R28: 0 | S28: 0 | T28: 0 | U28: 0 | V28: 0 | W28: 0
B29: Всього | C29: =SUM(C3:C28) -> 21771 | D29: =SUM(D3:D28) -> 12971 | E29: =SUM(E3:E28) -> 3792 | F29: =SUM(F3:F28) -> 1078 | G29: =SUM(G3:G28) -> 3590 | H29: =SUM(H3:H28) -> 340 | I29: =SUM(I3:I28) -> 357 | J29: =SUM(J3:J28) -> 2232426 | ... W29: =SUM(W3:W28) -> 415
